Workbook

Sheet 申し込みシート
M1: 申込締切：２０２６年１月３１日必着
B2: ２０２５年度春季ラート実技講習会（学生対象）申込用紙 | M2: 【お問い合わせ先】
B3: 日程：3月7日（土）〜3月8日（日） 場所：名古屋芸術大学西キャンパス体育館 | M3: 日本ラート協会事務局 E-mail：office@rhoenrad.jp WEB：http://www.rhoenrad.jp
B4: ※網掛け部に必要事項をご記入の上、日本ラート協会事務局宛にお送りください。
B5: 代表連絡先 | D5: 大学名 | K5: 連絡事項
D6: 氏名
D7: 住所 | E7: 〒
D9: 電話番号
D10: E-mail
C12: 氏名 | E12: 学年 | F12: 性別 （選択） | G12: 参加 区分 （選択） | H12: 使用ラートサイズ 不明な場合は身長を記入 | K12: 練習したい直転の級 （選択） | L12: 食事 （選択） | N12: 保険申込 （選択） | O12: 交通手段 （公共交通機関/ 車など） | Q12: 備考 | S12: 区分判定
H13: 直転 | I13: 斜転 | J13: 跳躍 | L13: 7日 昼食 | M13: 8日 昼食 | S13: 年齢 | T13: 学年 | U13: 食事区分 | V13: 宿泊区分
B14: 1 | S14: =IF(E14="","",DATEDIF(E14,DATE(2023,4,1),"Y")) | T14: =IF(E14="","",VLOOKUP(S14,setting!$B$2:$C$16,2,TRUE)) | U14: =IF($T14="","",IF($T14="未就学児","未就学児",IF(COUNTIF($T14,"小*"),"小中学生",IF(COUNTIF($T14,"中*"),"小中学生",IF(COUNTIF($T14,"高*"),"高校生以上","高校生以上"))))) | V14: =IF($T14="","",IF($T14="未就学児","18歳未満",IF(COUNTIF($T14,"小*"),"18歳未満",IF(COUNTIF($T14,"中*"),"18歳未満",IF(COUNTIF($T14,"高*"),"18歳未満","18歳以上")))))
B15: 2 | S15: =IF(E15="","",DATEDIF(E15,DATE(2023,4,1),"Y")) | T15: =IF(E15="","",VLOOKUP(S15,setting!$B$2:$C$16,2,TRUE)) | U15: =IF($T15="","",IF($T15="未就学児","未就学児",IF(COUNTIF($T15,"小*"),"小中学生",IF(COUNTIF($T15,"中*"),"小中学生",IF(COUNTIF($T15,"高*"),"高校生以上","高校生以上"))))) | V15: =IF($T15="","",IF($T15="未就学児","18歳未満",IF(COUNTIF($T15,"小*"),"18歳未満",IF(COUNTIF($T15,"中*"),"18歳未満",IF(COUNTIF($T15,"高*"),"18歳未満","18歳以上")))))
B16: 3 | S16: =IF(E16="","",DATEDIF(E16,DATE(2023,4,1),"Y")) | T16: =IF(E16="","",VLOOKUP(S16,setting!$B$2:$C$16,2,TRUE)) | U16: =IF($T16="","",IF($T16="未就学児","未就学児",IF(COUNTIF($T16,"小*"),"小中学生",IF(COUNTIF($T16,"中*"),"小中学生",IF(COUNTIF($T16,"高*"),"高校生以上","高校生以上"))))) | V16: =IF($T16="","",IF($T16="未就学児","18歳未満",IF(COUNTIF($T16,"小*"),"18歳未満",IF(COUNTIF($T16,"中*"),"18歳未満",IF(COUNTIF($T16,"高*"),"18歳未満","18歳以上")))))
B17: 4 | S17: =IF(E17="","",DATEDIF(E17,DATE(2023,4,1),"Y")) | T17: =IF(E17="","",VLOOKUP(S17,setting!$B$2:$C$16,2,TRUE)) | U17: =IF($T17="","",IF($T17="未就学児","未就学児",IF(COUNTIF($T17,"小*"),"小中学生",IF(COUNTIF($T17,"中*"),"小中学生",IF(COUNTIF($T17,"高*"),"高校生以上","高校生以上"))))) | V17: =IF($T17="","",IF($T17="未就学児","18歳未満",IF(COUNTIF($T17,"小*"),"18歳未満",IF(COUNTIF($T17,"中*"),"18歳未満",IF(COUNTIF($T17,"高*"),"18歳未満","18歳以上")))))
B18: 5 | S18: =IF(E18="","",DATEDIF(E18,DATE(2023,4,1),"Y")) | T18: =IF(E18="","",VLOOKUP(S18,setting!$B$2:$C$16,2,TRUE)) | U18: =IF($T18="","",IF($T18="未就学児","未就学児",IF(COUNTIF($T18,"小*"),"小中学生",IF(COUNTIF($T18,"中*"),"小中学生",IF(COUNTIF($T18,"高*"),"高校生以上","高校生以上"))))) | V18: =IF($T18="","",IF($T18="未就学児","18歳未満",IF(COUNTIF($T18,"小*"),"18歳未満",IF(COUNTIF($T18,"中*"),"18歳未満",IF(COUNTIF($T18,"高*"),"18歳未満","18歳以上")))))
B19: 6 | S19: =IF(E19="","",DATEDIF(E19,DATE(2023,4,1),"Y")) | T19: =IF(E19="","",VLOOKUP(S19,setting!$B$2:$C$16,2,TRUE)) | U19: =IF($T19="","",IF($T19="未就学児","未就学児",IF(COUNTIF($T19,"小*"),"小中学生",IF(COUNTIF($T19,"中*"),"小中学生",IF(COUNTIF($T19,"高*"),"高校生以上","高校生以上"))))) | V19: =IF($T19="","",IF($T19="未就学児","18歳未満",IF(COUNTIF($T19,"小*"),"18歳未満",IF(COUNTIF($T19,"中*"),"18歳未満",IF(COUNTIF($T19,"高*"),"18歳未満","18歳以上")))))
B20: 7 | S20: =IF(E20="","",DATEDIF(E20,DATE(2023,4,1),"Y")) | T20: =IF(E20="","",VLOOKUP(S20,setting!$B$2:$C$16,2,TRUE)) | U20: =IF($T20="","",IF($T20="未就学児","未就学児",IF(COUNTIF($T20,"小*"),"小中学生",IF(COUNTIF($T20,"中*"),"小中学生",IF(COUNTIF($T20,"高*"),"高校生以上","高校生以上"))))) | V20: =IF($T20="","",IF($T20="未就学児","18歳未満",IF(COUNTIF($T20,"小*"),"18歳未満",IF(COUNTIF($T20,"中*"),"18歳未満",IF(COUNTIF($T20,"高*"),"18歳未満","18歳以上")))))
B21: 8 | S21: =IF(E21="","",DATEDIF(E21,DATE(2023,4,1),"Y")) | T21: =IF(E21="","",VLOOKUP(S21,setting!$B$2:$C$16,2,TRUE)) | U21: =IF($T21="","",IF($T21="未就学児","未就学児",IF(COUNTIF($T21,"小*"),"小中学生",IF(COUNTIF($T21,"中*"),"小中学生",IF(COUNTIF($T21,"高*"),"高校生以上","高校生以上"))))) | V21: =IF($T21="","",IF($T21="未就学児","18歳未満",IF(COUNTIF($T21,"小*"),"18歳未満",IF(COUNTIF($T21,"中*"),"18歳未満",IF(COUNTIF($T21,"高*"),"18歳未満","18歳以上")))))
B22: 9 | S22: =IF(E22="","",DATEDIF(E22,DATE(2023,4,1),"Y")) | T22: =IF(E22="","",VLOOKUP(S22,setting!$B$2:$C$16,2,TRUE)) | U22: =IF($T22="","",IF($T22="未就学児","未就学児",IF(COUNTIF($T22,"小*"),"小中学生",IF(COUNTIF($T22,"中*"),"小中学生",IF(COUNTIF($T22,"高*"),"高校生以上","高校生以上"))))) | V22: =IF($T22="","",IF($T22="未就学児","18歳未満",IF(COUNTIF($T22,"小*"),"18歳未満",IF(COUNTIF($T22,"中*"),"18歳未満",IF(COUNTIF($T22,"高*"),"18歳未満","18歳以上")))))
B23: 10 | S23: =IF(E23="","",DATEDIF(E23,DATE(2023,4,1),"Y")) | T23: =IF(E23="","",VLOOKUP(S23,setting!$B$2:$C$16,2,TRUE)) | U23: =IF($T23="","",IF($T23="未就学児","未就学児",IF(COUNTIF($T23,"小*"),"小中学生",IF(COUNTIF($T23,"中*"),"小中学生",IF(COUNTIF($T23,"高*"),"高校生以上","高校生以上"))))) | V23: =IF($T23="","",IF($T23="未就学児","18歳未満",IF(COUNTIF($T23,"小*"),"18歳未満",IF(COUNTIF($T23,"中*"),"18歳未満",IF(COUNTIF($T23,"高*"),"18歳未満","18歳以上")))))
B24: 11 | S24: =IF(E24="","",DATEDIF(E24,DATE(2023,4,1),"Y")) | T24: =IF(E24="","",VLOOKUP(S24,setting!$B$2:$C$16,2,TRUE)) | U24: =IF($T24="","",IF($T24="未就学児","未就学児",IF(COUNTIF($T24,"小*"),"小中学生",IF(COUNTIF($T24,"中*"),"小中学生",IF(COUNTIF($T24,"高*"),"高校生以上","高校生以上"))))) | V24: =IF($T24="","",IF($T24="未就学児","18歳未満",IF(COUNTIF($T24,"小*"),"18歳未満",IF(COUNTIF($T24,"中*"),"18歳未満",IF(COUNTIF($T24,"高*"),"18歳未満","18歳以上")))))
B25: 12 | S25: =IF(E25="","",DATEDIF(E25,DATE(2023,4,1),"Y")) | T25: =IF(E25="","",VLOOKUP(S25,setting!$B$2:$C$16,2,TRUE)) | U25: =IF($T25="","",IF($T25="未就学児","未就学児",IF(COUNTIF($T25,"小*"),"小中学生",IF(COUNTIF($T25,"中*"),"小中学生",IF(COUNTIF($T25,"高*"),"高校生以上","高校生以上"))))) | V25: =IF($T25="","",IF($T25="未就学児","18歳未満",IF(COUNTIF($T25,"小*"),"18歳未満",IF(COUNTIF($T25,"中*"),"18歳未満",IF(COUNTIF($T25,"高*"),"18歳未満","18歳以上")))))
... B33: 20 | S33: =IF(E33="","",DATEDIF(E33,DATE(2023,4,1),"Y")) | T33: =IF(E33="","",VLOOKUP(S33,setting!$B$2:$C$16,2,TRUE)) | U33: =IF($T33="","",IF($T33="未就学児","未就学児",IF(COUNTIF($T33,"小*"),"小中学生",IF(COUNTIF($T33,"中*"),"小中学生",IF(COUNTIF($T33,"高*"),"高校生以上","高校生以上"))))) | V33: =IF($T33="","",IF($T33="未就学児","18歳未満",IF(COUNTIF($T33,"小*"),"18歳未満",IF(COUNTIF($T33,"中*"),"18歳未満",IF(COUNTIF($T33,"高*"),"18歳未満","18歳以上")))))
C35: 【参加人数と区分】 | G35: 【食事申込】
C36: 会員 | D36: =COUNTIF($G$14:$G$33,C36) -> 0 | E36: =D36*setting!P3 -> 0 | G36: 昼食 | H36: =COUNTIFS($L$14:$M$33,"◯") -> 0 | I36: =$H$36*setting!G5 -> 0 | N36: 参加費 | O36: =$E$38 -> 0
C37: 非会員 | D37: =COUNTIF($G$14:$G$33,C37) -> 0 | E37: =D37*setting!P4 -> 0 | N37: 保険代 | O37: =E42 -> 0
C38: 参加費合計 | E38: =SUM(E36:E37) -> 0 | N38: 食事代 | O38: =I36 -> 0
N39: 合計 | O39: =SUM($O$36:$P$38) -> 0
C40: 【保険加入】
C41: 人数 | E41: =COUNTIF($N$14:$N$33,"◯") -> 0 | G41: 【注意事項】 ※2025年度に保険に申込された方の保険期間は2026年3月31日までとなります。 2026年4月以降適用の保険を希望する場合は別途協会WEBサイトよりお申し込み下さい。 ※項目に不備がないかご確認下さい。 ※請求書は、後日詳細のお知らせと併せてお送りいたします。 ※会員登録をご希望の方は、備考欄にその旨ご記載の上、協会WEBサイトよりお手続き下さい。 ※遅参早退、1日のみの参加の場合は、備考欄にその旨ご記載下さい。
C42: 保険料合計 | E42: {=E41*テーブル4[保険料]} -> 0

Sheet setting
B2: 年齢 | C2: 学年 | E2: 食事料金 | F2: 朝食 | G2: 昼食 | H2: 夕食 | J2: 宿泊料金 | K2: 料金 | M2: 保険料 | O2: 参加費 | P2: 料金
B3: 0 | C3: 未就学児 | E3: 未就学児 | J3: 18歳未満 | K3: 488 | M3: 1850 | O3: 会員 | P3: 6000
B4: 6 | C4: 小1 | E4: 小中学生 | J4: 18歳以上 | K4: 1018 | O4: 非会員 | P4: 8500
B5: 7 | C5: 小2 | E5: 高校生以上 | G5: 900
B6: 8 | C6: 小3
B7: 9 | C7: 小4
B8: 10 | C8: 小5
B9: 11 | C9: 小6
B10: 12 | C10: 中1
B11: 13 | C11: 中2
B12: 14 | C12: 中3
B13: 15 | C13: 高1
B14: 16 | C14: 高2
B15: 17 | C15: 高3
B16: 18 | C16: 18歳以上
