Workbook

Sheet 申し込みシート
M1: 申込締切：２０２６年１月３１日必着
B2: ２０２５年度春季ラート実技講習会（一般対象）申込用紙 | M2: 【お問い合わせ先】
B3: 日程：3月6日（土）〜 3月7日（日） 場所：千葉県立手賀の丘青少年自然の家 | M3: 日本ラート協会事務局 E-mail：office@rhoenrad.jp WEB：https://www.rhoenrad.jp
E4: ※網掛け部に必要事項をご記入下さい。
B5: 代表連絡先 | D5: 氏名 | K5: 連絡事項
D6: 住所 | E6: 〒
D8: 電話番号
D9: E-mail
C11: 氏名 | E11: 生年月日 (2000/4/1) | F11: 性別 (選択) | G11: 参加 区分 (選択) | H11: 使用ラートサイズ 不明な場合は身長を記入 | K11: 練習したい直転の級 (選択) | L11: 食事 (選択) | P11: 宿泊 希望 (選択) | Q11: 保険 申込 希望 (選択) | R11: 交通手段 (公共交通機関/ 車など) | T11: 備考 （食事のアレルギー等があればお知らせください） | W11: 区分判定
H12: 直転 | I12: 斜転 | J12: 跳躍 | L12: 1日目 昼食 | M12: 1日目 夕食 | N12: 2日目 朝食 | O12: 2日目 昼食 | W12: 年齢 | X12: 学年 | Y12: 食事区分 | Z12: 宿泊区分
B13: 1 | W13: =IF(E13="","",DATEDIF(E13,DATE(2025,4,1),"Y")) | X13: =IF(E13="","",VLOOKUP(W13,setting!$B$2:$C$16,2,TRUE)) | Y13: =IF($X13="","",IF($X13="未就学児","未就学児",IF(COUNTIF($X13,"小*"),"小学生","中学生以上"))) | Z13: =IF($X13="","",IF($X13="未就学児","18歳未満",IF(COUNTIF($X13,"小*"),"18歳未満",IF(COUNTIF($X13,"中*"),"18歳未満",IF(COUNTIF($X13,"高*"),"18歳未満","18歳以上")))))
B14: 2 | W14: =IF(E14="","",DATEDIF(E14,DATE(2025,4,1),"Y")) | X14: =IF(E14="","",VLOOKUP(W14,setting!$B$2:$C$16,2,TRUE)) | Y14: =IF($X14="","",IF($X14="未就学児","未就学児",IF(COUNTIF($X14,"小*"),"小学生","中学生以上"))) | Z14: =IF($X14="","",IF($X14="未就学児","18歳未満",IF(COUNTIF($X14,"小*"),"18歳未満",IF(COUNTIF($X14,"中*"),"18歳未満",IF(COUNTIF($X14,"高*"),"18歳未満","18歳以上")))))
B15: 3 | W15: =IF(E15="","",DATEDIF(E15,DATE(2025,4,1),"Y")) | X15: =IF(E15="","",VLOOKUP(W15,setting!$B$2:$C$16,2,TRUE)) | Y15: =IF($X15="","",IF($X15="未就学児","未就学児",IF(COUNTIF($X15,"小*"),"小学生","中学生以上"))) | Z15: =IF($X15="","",IF($X15="未就学児","18歳未満",IF(COUNTIF($X15,"小*"),"18歳未満",IF(COUNTIF($X15,"中*"),"18歳未満",IF(COUNTIF($X15,"高*"),"18歳未満","18歳以上")))))
B16: 4 | W16: =IF(E16="","",DATEDIF(E16,DATE(2025,4,1),"Y")) | X16: =IF(E16="","",VLOOKUP(W16,setting!$B$2:$C$16,2,TRUE)) | Y16: =IF($X16="","",IF($X16="未就学児","未就学児",IF(COUNTIF($X16,"小*"),"小学生","中学生以上"))) | Z16: =IF($X16="","",IF($X16="未就学児","18歳未満",IF(COUNTIF($X16,"小*"),"18歳未満",IF(COUNTIF($X16,"中*"),"18歳未満",IF(COUNTIF($X16,"高*"),"18歳未満","18歳以上")))))
B17: 5 | W17: =IF(E17="","",DATEDIF(E17,DATE(2025,4,1),"Y")) | X17: =IF(E17="","",VLOOKUP(W17,setting!$B$2:$C$16,2,TRUE)) | Y17: =IF($X17="","",IF($X17="未就学児","未就学児",IF(COUNTIF($X17,"小*"),"小学生","中学生以上"))) | Z17: =IF($X17="","",IF($X17="未就学児","18歳未満",IF(COUNTIF($X17,"小*"),"18歳未満",IF(COUNTIF($X17,"中*"),"18歳未満",IF(COUNTIF($X17,"高*"),"18歳未満","18歳以上")))))
B18: 6 | W18: =IF(E18="","",DATEDIF(E18,DATE(2025,4,1),"Y")) | X18: =IF(E18="","",VLOOKUP(W18,setting!$B$2:$C$16,2,TRUE)) | Y18: =IF($X18="","",IF($X18="未就学児","未就学児",IF(COUNTIF($X18,"小*"),"小学生","中学生以上"))) | Z18: =IF($X18="","",IF($X18="未就学児","18歳未満",IF(COUNTIF($X18,"小*"),"18歳未満",IF(COUNTIF($X18,"中*"),"18歳未満",IF(COUNTIF($X18,"高*"),"18歳未満","18歳以上")))))
B19: 7 | W19: =IF(E19="","",DATEDIF(E19,DATE(2025,4,1),"Y")) | X19: =IF(E19="","",VLOOKUP(W19,setting!$B$2:$C$16,2,TRUE)) | Y19: =IF($X19="","",IF($X19="未就学児","未就学児",IF(COUNTIF($X19,"小*"),"小学生","中学生以上"))) | Z19: =IF($X19="","",IF($X19="未就学児","18歳未満",IF(COUNTIF($X19,"小*"),"18歳未満",IF(COUNTIF($X19,"中*"),"18歳未満",IF(COUNTIF($X19,"高*"),"18歳未満","18歳以上")))))
B20: 8 | W20: =IF(E20="","",DATEDIF(E20,DATE(2025,4,1),"Y")) | X20: =IF(E20="","",VLOOKUP(W20,setting!$B$2:$C$16,2,TRUE)) | Y20: =IF($X20="","",IF($X20="未就学児","未就学児",IF(COUNTIF($X20,"小*"),"小学生","中学生以上"))) | Z20: =IF($X20="","",IF($X20="未就学児","18歳未満",IF(COUNTIF($X20,"小*"),"18歳未満",IF(COUNTIF($X20,"中*"),"18歳未満",IF(COUNTIF($X20,"高*"),"18歳未満","18歳以上")))))
B21: 9 | W21: =IF(E21="","",DATEDIF(E21,DATE(2025,4,1),"Y")) | X21: =IF(E21="","",VLOOKUP(W21,setting!$B$2:$C$16,2,TRUE)) | Y21: =IF($X21="","",IF($X21="未就学児","未就学児",IF(COUNTIF($X21,"小*"),"小学生","中学生以上"))) | Z21: =IF($X21="","",IF($X21="未就学児","18歳未満",IF(COUNTIF($X21,"小*"),"18歳未満",IF(COUNTIF($X21,"中*"),"18歳未満",IF(COUNTIF($X21,"高*"),"18歳未満","18歳以上")))))
B22: 10 | W22: =IF(E22="","",DATEDIF(E22,DATE(2025,4,1),"Y")) | X22: =IF(E22="","",VLOOKUP(W22,setting!$B$2:$C$16,2,TRUE)) | Y22: =IF($X22="","",IF($X22="未就学児","未就学児",IF(COUNTIF($X22,"小*"),"小学生","中学生以上"))) | Z22: =IF($X22="","",IF($X22="未就学児","18歳未満",IF(COUNTIF($X22,"小*"),"18歳未満",IF(COUNTIF($X22,"中*"),"18歳未満",IF(COUNTIF($X22,"高*"),"18歳未満","18歳以上")))))
C24: 【参加人数と区分】 | G24: 【食事申込】
C25: 会員 | D25: =COUNTIF($G$13:$G$22,C25) -> 0 | E25: =D25*setting!P3 -> 0 | H25: 昼 | I25: 夜 | J25: 朝 | K25: 昼 | L25: 金額 | N25: 参加費 | O25: =$E$27 -> 0
C26: 非会員 | D26: =COUNTIF($G$13:$G$22,C26) -> 0 | E26: =D26*setting!P4 -> 0 | G26: 未就学児 | H26: =COUNTIFS($Y$13:$Y$22,G26,$L$13:$L$22,"◯") -> 0 | I26: =COUNTIFS($Y$13:$Y$22,G26,$M$13:$M$22,"◯") -> 0 | J26: =COUNTIFS($Y$13:$Y$22,G26,$N$13:$N$22,"◯") -> 0 | K26: =COUNTIFS($Y$13:$Y$22,G26,$O$13:$O$22,"◯") -> 0 | L26: =($H$26*setting!G3)+($I$26*setting!H3)+($J$26*setting!F3)+($K$26*setting!G3) -> 0 | N26: 保険代 | O26: =E31 -> 0
C27: 参加費合計 | E27: =SUM(E25:E26) -> 0 | G27: 小学生 | H27: =COUNTIFS($Y$13:$Y$22,G27,$L$13:$L$22,"◯") -> 0 | I27: =COUNTIFS($Y$13:$Y$22,G27,$M$13:$M$22,"◯") -> 0 | J27: =COUNTIFS($Y$13:$Y$22,G27,$N$13:$N$22,"◯") -> 0 | K27: =COUNTIFS($Y$13:$Y$22,G27,$O$13:$O$22,"◯") -> 0 | L27: =($H$27*setting!G4)+($I$27*setting!H4)+($J$27*setting!F4)+($K$27*setting!G4) -> 0 | N27: 宿泊費 | O27: =E36 -> 0
G28: 中学生以上 | H28: =COUNTIFS($Y$13:$Y$22,G28,$L$13:$L$22,"◯") -> 0 | I28: =COUNTIFS($Y$13:$Y$22,G28,$M$13:$M$22,"◯") -> 0 | J28: =COUNTIFS($Y$13:$Y$22,G28,$N$13:$N$22,"◯") -> 0 | K28: =COUNTIFS($Y$13:$Y$22,G28,$O$13:$O$22,"◯") -> 0 | L28: =($H$28*setting!G5)+($I$28*setting!H5)+($J$28*setting!F5)+($K$28*setting!G5) -> 0 | N28: 食事代 | O28: =L29 -> 0
C29: 【保険加入】 | G29: 食事代合計 | L29: =SUM(L26:L28) -> 0 | N29: 合計 | O29: =SUM($O$25:$P$28) -> 0
C30: 人数 | E30: =COUNTIF($Q$13:$Q$22,"◯") -> 0
C31: 保険料合計 | E31: {=E30*テーブル4[保険料]} -> 0 | G31: 【注意事項】 ※2025年度に保険に申し込みされた方の保険期間は2026年3月31日までとなります。 ※項目に不備がないかご確認下さい。 ※請求書は、後日詳細のお知らせと併せてお送りいたします。 ※会員申込をご希望の方は、備考欄にその旨ご記載の上、先に協会WEBサイトよりお申し込み下さい。 ※遅参早退、1日のみの参加の場合は、備考欄にその旨ご記載下さい。
C33: 【宿泊申込】
C34: 18歳未満 | D34: =COUNTIFS($P$13:$P$22,"◯",$Z$13:$Z$22,"18歳未満") -> 0 | E34: =D34*setting!K3 -> 0
C35: 18歳以上 | D35: =COUNTIFS($P$13:$P$22,"◯",$Z$13:$Z$22,"18歳以上") -> 0 | E35: =D35*setting!K4 -> 0
C36: 宿泊費合計 | E36: =SUM(E34:E35) -> 0

Sheet setting
B2: 年齢 | C2: 学年 | E2: 食事料金 | F2: 朝食 | G2: 昼食 | H2: 夕食 | J2: 宿泊料金 | K2: 料金 | M2: 保険料 | O2: 参加費 | P2: 料金
B3: 0 | C3: 未就学児 | E3: 未就学児 | F3: 522 | G3: 665 | H3: 807 | J3: 18歳未満 | K3: 488 | M3: 1850 | O3: 会員 | P3: 6000
B4: 6 | C4: 小1 | E4: 小学生 | F4: 665 | G4: 807 | H4: 950 | J4: 18歳以上 | K4: 1018 | O4: 非会員 | P4: 8500
B5: 7 | C5: 小2 | E5: 中学生以上 | F5: 734 | G5: 879 | H5: 1021
B6: 8 | C6: 小3
B7: 9 | C7: 小4
B8: 10 | C8: 小5
B9: 11 | C9: 小6
B10: 12 | C10: 中1
B11: 13 | C11: 中2
B12: 14 | C12: 中3
B13: 15 | C13: 高1
B14: 16 | C14: 高2
B15: 17 | C15: 高3
B16: 18 | C16: 18歳以上
